BEGIN:VCALENDAR
VERSION:2.0
PRODID:-//humanesocietycc.org//NONSGML kigkonsult.se iCalcreator 2.30.10//
CALSCALE:GREGORIAN
METHOD:PUBLISH
UID:fe14b851-8d0e-49ad-9cf5-5b18f7c54249
X-WR-CALDESC:
X-WR-RELCALID:30b9a5320bbabcaf26b497aed9b16f93
X-WR-TIMEZONE:America/New_York
BEGIN:VTIMEZONE
TZID:America/New_York
BEGIN:STANDARD
TZNAME:EST
DTSTART:20241103T020000
TZOFFSETFROM:-0400
TZOFFSETTO:-0500
RDATE:20251102T020000
RDATE:20261101T020000
END:STANDARD
BEGIN:DAYLIGHT
TZNAME:EDT
DTSTART:20250309T020000
TZOFFSETFROM:-0500
TZOFFSETTO:-0400
RDATE:20260308T020000
RDATE:20270314T020000
END:DAYLIGHT
END:VTIMEZONE
BEGIN:VEVENT
UID:90415bf9-5a11-4f33-ad56-6eb843dec98b
DTSTAMP:20260419T152405Z
DESCRIPTION:
DTSTART;TZID=America/New_York:20251027T000000
DTEND;TZID=America/New_York:20251027T235900
LOCATION:
SUMMARY:Shelter Closed
END:VEVENT
END:VCALENDAR
