BEGIN:VCALENDAR
VERSION:2.0
PRODID:-//humanesocietycc.org//NONSGML kigkonsult.se iCalcreator 2.30.10//
CALSCALE:GREGORIAN
METHOD:PUBLISH
UID:eeb9baf4-b189-4c5b-80b7-f04e2c427bc8
X-WR-CALDESC:
X-WR-RELCALID:b9879ed9ad9ea272ea761f3f68d923be
X-WR-TIMEZONE:America/New_York
BEGIN:VTIMEZONE
TZID:America/New_York
BEGIN:STANDARD
TZNAME:EST
DTSTART:20241103T020000
TZOFFSETFROM:-0400
TZOFFSETTO:-0500
RDATE:20251102T020000
RDATE:20261101T020000
END:STANDARD
BEGIN:DAYLIGHT
TZNAME:EDT
DTSTART:20250309T020000
TZOFFSETFROM:-0500
TZOFFSETTO:-0400
RDATE:20260308T020000
RDATE:20270314T020000
END:DAYLIGHT
END:VTIMEZONE
BEGIN:VEVENT
UID:ed4d7b21-83db-46ec-981b-3ce33c13fcfe
DTSTAMP:20260419T135740Z
DESCRIPTION:
DTSTART;TZID=America/New_York:20251103T000000
DTEND;TZID=America/New_York:20251103T235900
LOCATION:
SUMMARY:Shelter Closed
END:VEVENT
END:VCALENDAR
