BEGIN:VCALENDAR
VERSION:2.0
PRODID:-//humanesocietycc.org//NONSGML kigkonsult.se iCalcreator 2.30.10//
CALSCALE:GREGORIAN
METHOD:PUBLISH
UID:39be177c-f105-4cea-8ce4-eeb28412614e
X-WR-CALDESC:
X-WR-RELCALID:cf99c47f9a75fe2e7515b97bdc2d026c
X-WR-TIMEZONE:America/New_York
BEGIN:VTIMEZONE
TZID:America/New_York
BEGIN:STANDARD
TZNAME:EST
DTSTART:20251102T020000
TZOFFSETFROM:-0400
TZOFFSETTO:-0500
RDATE:20261101T020000
END:STANDARD
BEGIN:DAYLIGHT
TZNAME:EDT
DTSTART:20250309T020000
TZOFFSETFROM:-0500
TZOFFSETTO:-0400
RDATE:20260308T020000
RDATE:20270314T020000
END:DAYLIGHT
END:VTIMEZONE
BEGIN:VEVENT
UID:3c64f22b-09c8-446e-9f08-304f7c28c8d0
DTSTAMP:20260419T135127Z
DESCRIPTION:
DTSTART;TZID=America/New_York:20251108T100000
DTEND;TZID=America/New_York:20251108T140000
LOCATION:71 Industrial Park Drive\, Waldorf\, MD 20602 US
SUMMARY:KIND Club ┆Animal Safety: Basic Pet Care & Ethics
END:VEVENT
END:VCALENDAR
