BEGIN:VCALENDAR
VERSION:2.0
PRODID:-//humanesocietycc.org//NONSGML kigkonsult.se iCalcreator 2.30.10//
CALSCALE:GREGORIAN
METHOD:PUBLISH
UID:fc5dd692-97de-4098-99ee-e480521e70c1
X-WR-CALDESC:
X-WR-RELCALID:4e83feed06c35a6f3e9148fa349c16ba
X-WR-TIMEZONE:America/New_York
BEGIN:VTIMEZONE
TZID:America/New_York
BEGIN:STANDARD
TZNAME:EST
DTSTART:20251102T020000
TZOFFSETFROM:-0400
TZOFFSETTO:-0500
RDATE:20261101T020000
END:STANDARD
BEGIN:DAYLIGHT
TZNAME:EDT
DTSTART:20250309T020000
TZOFFSETFROM:-0500
TZOFFSETTO:-0400
RDATE:20260308T020000
RDATE:20270314T020000
END:DAYLIGHT
END:VTIMEZONE
BEGIN:VEVENT
UID:cafd1730-b63d-4bd7-b966-9a028309d856
DTSTAMP:20260419T135302Z
DESCRIPTION:
DTSTART;TZID=America/New_York:20251110T000000
DTEND;TZID=America/New_York:20251110T235900
LOCATION:
SUMMARY:Shelter Closed
END:VEVENT
END:VCALENDAR
