BEGIN:VCALENDAR
VERSION:2.0
PRODID:-//humanesocietycc.org//NONSGML kigkonsult.se iCalcreator 2.30.10//
CALSCALE:GREGORIAN
METHOD:PUBLISH
UID:d48e3ca1-4a4e-4d07-8107-82edb0470b3d
X-WR-CALDESC:
X-WR-RELCALID:b12ac6cc9ddcd6a5d7cb6f3f67617ae3
X-WR-TIMEZONE:America/New_York
BEGIN:VTIMEZONE
TZID:America/New_York
BEGIN:STANDARD
TZNAME:EST
DTSTART:20251102T020000
TZOFFSETFROM:-0400
TZOFFSETTO:-0500
RDATE:20261101T020000
END:STANDARD
BEGIN:DAYLIGHT
TZNAME:EDT
DTSTART:20250309T020000
TZOFFSETFROM:-0500
TZOFFSETTO:-0400
RDATE:20260308T020000
RDATE:20270314T020000
END:DAYLIGHT
END:VTIMEZONE
BEGIN:VEVENT
UID:8809680f-0da1-4432-a231-ecdd3d552d5a
DTSTAMP:20260421T094807Z
DESCRIPTION:
DTSTART;TZID=America/New_York:20251115T120000
DTEND;TZID=America/New_York:20251115T140000
LOCATION:
SUMMARY:Adoption Event at Abberly Square Apartments
END:VEVENT
END:VCALENDAR
