BEGIN:VCALENDAR
VERSION:2.0
PRODID:-//humanesocietycc.org//NONSGML kigkonsult.se iCalcreator 2.30.10//
CALSCALE:GREGORIAN
METHOD:PUBLISH
UID:62a83a25-5e9d-4586-a257-1fd9f64d756f
X-WR-CALDESC:
X-WR-RELCALID:ff9fd31e5da9dfa34fd6693c5bd8a206
X-WR-TIMEZONE:America/New_York
BEGIN:VTIMEZONE
TZID:America/New_York
BEGIN:STANDARD
TZNAME:EST
DTSTART:20251102T020000
TZOFFSETFROM:-0400
TZOFFSETTO:-0500
RDATE:20261101T020000
END:STANDARD
BEGIN:DAYLIGHT
TZNAME:EDT
DTSTART:20250309T020000
TZOFFSETFROM:-0500
TZOFFSETTO:-0400
RDATE:20260308T020000
RDATE:20270314T020000
END:DAYLIGHT
END:VTIMEZONE
BEGIN:VEVENT
UID:75a49b4b-0f7f-4923-92ad-661682170216
DTSTAMP:20260419T140636Z
DESCRIPTION:
DTSTART;TZID=America/New_York:20251117T000000
DTEND;TZID=America/New_York:20251117T235900
LOCATION:
SUMMARY:Shelter Closed
END:VEVENT
END:VCALENDAR
