BEGIN:VCALENDAR
VERSION:2.0
PRODID:-//humanesocietycc.org//NONSGML kigkonsult.se iCalcreator 2.30.10//
CALSCALE:GREGORIAN
METHOD:PUBLISH
UID:f59af84c-aa59-4018-a9b1-49f6a0b4dcab
X-WR-CALDESC:This event is a 'non-scary' autumn activity to present fun cra
 fts\, tasty treats\, and connection to the harvest season while enjoying t
 he outdoors for our community. Just a few days before Thanksgiving\, this 
 family friendly event will stress kindness\, gratitude\, and connection wi
 th the environment. Edible organic pumpkins will be provided along with re
 cipes for roasting seeds\, cooking the pumpkin into pies\, soup\, muffins\
 , or pet friendly (excellent for dogs & cats) snacks. There will be nature
  crafts such as pine cone turkeys\, native vine wreath making\, feather be
 ad & leather craft\, and a supervised campfire for making s'mores. Activit
 ies will be led by volunteers\, Scouts and 4-H members. Charles County UMD
  Extension Master Gardeners will have a table to help guide families to wi
 ldlife / pollinator- friendly fall gardening practices. Adoptable pets wil
 l be available for live pet 'meet & greet' interaction & cuddling from our
  local 'no-kill' rescue shelter. Homeschool students will assist with game
 s & activities with a straw bale photo booth. There will be friendly goats
  & a live turkey for petting. Participants will be encouraged to support s
 everal local non-profits as we connect & work together. since this is an o
 utdoor event\, raindate will be November 23.
X-WR-RELCALID:c1003670255fd72c6a0006f553a5dd64
X-WR-TIMEZONE:America/New_York
BEGIN:VTIMEZONE
TZID:America/New_York
BEGIN:STANDARD
TZNAME:EST
DTSTART:20251102T020000
TZOFFSETFROM:-0400
TZOFFSETTO:-0500
RDATE:20261101T020000
END:STANDARD
BEGIN:DAYLIGHT
TZNAME:EDT
DTSTART:20250309T020000
TZOFFSETFROM:-0500
TZOFFSETTO:-0400
RDATE:20260308T020000
RDATE:20270314T020000
END:DAYLIGHT
END:VTIMEZONE
BEGIN:VEVENT
UID:8ddc8f52-9807-4ed7-9795-a0f1e6c56684
DTSTAMP:20260419T135502Z
DESCRIPTION:This event is a 'non-scary' autumn activity to present fun craf
 ts\, tasty treats\, and connection to the harvest season while enjoying th
 e outdoors for our community. Just a few days before Thanksgiving\, this f
 amily friendly event will stress kindness\, gratitude\, and connection wit
 h the environment. Edible organic pumpkins will be provided along with rec
 ipes for roasting seeds\, cooking the pumpkin into pies\, soup\, muffins\,
  or pet friendly (excellent for dogs & cats) snacks. There will be nature 
 crafts such as pine cone turkeys\, native vine wreath making\, feather bea
 d & leather craft\, and a supervised campfire for making s'mores. Activiti
 es will be led by volunteers\, Scouts and 4-H members. Charles County UMD 
 Extension Master Gardeners will have a table to help guide families to wil
 dlife / pollinator- friendly fall gardening practices. Adoptable pets will
  be available for live pet 'meet & greet' interaction & cuddling from our 
 local 'no-kill' rescue shelter. Homeschool students will assist with games
  & activities with a straw bale photo booth. There will be friendly goats 
 & a live turkey for petting. Participants will be encouraged to support se
 veral local non-profits as we connect & work together. since this is an ou
 tdoor event\, raindate will be November 23.
DTSTART;TZID=America/New_York:20251122T130000
DTEND;TZID=America/New_York:20251122T160000
LOCATION:71 Industrial Park Drive\, Waldorf\, MD 20602 US
SUMMARY:Free Family & Furry Friends\, Food & Fun Fall Farm Festival
END:VEVENT
END:VCALENDAR
