BEGIN:VCALENDAR
VERSION:2.0
PRODID:-//humanesocietycc.org//NONSGML kigkonsult.se iCalcreator 2.30.10//
CALSCALE:GREGORIAN
METHOD:PUBLISH
UID:a8eb0cf4-707e-4774-a96b-92f363918f66
X-WR-CALDESC:
X-WR-RELCALID:a07d4a0a31e0fed618748286772e5675
X-WR-TIMEZONE:America/New_York
BEGIN:VTIMEZONE
TZID:America/New_York
BEGIN:STANDARD
TZNAME:EST
DTSTART:20251102T020000
TZOFFSETFROM:-0400
TZOFFSETTO:-0500
RDATE:20261101T020000
END:STANDARD
BEGIN:DAYLIGHT
TZNAME:EDT
DTSTART:20250309T020000
TZOFFSETFROM:-0500
TZOFFSETTO:-0400
RDATE:20260308T020000
RDATE:20270314T020000
END:DAYLIGHT
END:VTIMEZONE
BEGIN:VEVENT
UID:a0278986-86d6-4fc5-8d1d-2556f4b72173
DTSTAMP:20260419T135105Z
DESCRIPTION:
DTSTART;TZID=America/New_York:20251124T000000
DTEND;TZID=America/New_York:20251124T235900
LOCATION:
SUMMARY:Shelter Closed
END:VEVENT
END:VCALENDAR
