BEGIN:VCALENDAR
VERSION:2.0
PRODID:-//humanesocietycc.org//NONSGML kigkonsult.se iCalcreator 2.30.10//
CALSCALE:GREGORIAN
METHOD:PUBLISH
UID:a01f09eb-b798-4427-a947-8555e12c66c1
X-WR-CALDESC:
X-WR-RELCALID:0a9a42543879741662ea8ece9c1260da
X-WR-TIMEZONE:America/New_York
BEGIN:VTIMEZONE
TZID:America/New_York
BEGIN:STANDARD
TZNAME:EST
DTSTART:20251102T020000
TZOFFSETFROM:-0400
TZOFFSETTO:-0500
RDATE:20261101T020000
END:STANDARD
BEGIN:DAYLIGHT
TZNAME:EDT
DTSTART:20250309T020000
TZOFFSETFROM:-0500
TZOFFSETTO:-0400
RDATE:20260308T020000
RDATE:20270314T020000
END:DAYLIGHT
END:VTIMEZONE
BEGIN:VEVENT
UID:d081d6e8-64c9-40fb-9578-e9b4456a261f
DTSTAMP:20260419T135302Z
DESCRIPTION:
DTSTART;TZID=America/New_York:20251128T080000
DTEND;TZID=America/New_York:20251128T150000
LOCATION:Petco in La Plata
SUMMARY:Fill the Van
END:VEVENT
END:VCALENDAR
