BEGIN:VCALENDAR
VERSION:2.0
PRODID:-//humanesocietycc.org//NONSGML kigkonsult.se iCalcreator 2.30.10//
CALSCALE:GREGORIAN
METHOD:PUBLISH
UID:adb2db03-294e-45cd-945b-055d94656ffa
X-WR-CALDESC:Join us for our rabies clinic happening November 29th from 11 
 AM to 2 PM! πΎ¨ Make sure to arrive by 1:30 PM.\n\nIt's just $40 per vaccina
 tion for either a 1-year or 3-year rabies shot. π\n\nRemember\, all dogs n
 eed to be on a leash and muzzled if necessary. πΆnAll cats should be transp
 orted in a carrier. π±n\nIf you're looking for a 3-year vaccination\, pleas
 e bring proof of your pet's last rabies vaccination. \n\n
X-WR-RELCALID:41f9f03fbabc37fe06f916faef8a0e31
X-WR-TIMEZONE:America/New_York
BEGIN:VTIMEZONE
TZID:America/New_York
BEGIN:STANDARD
TZNAME:EST
DTSTART:20251102T020000
TZOFFSETFROM:-0400
TZOFFSETTO:-0500
RDATE:20261101T020000
END:STANDARD
BEGIN:DAYLIGHT
TZNAME:EDT
DTSTART:20250309T020000
TZOFFSETFROM:-0500
TZOFFSETTO:-0400
RDATE:20260308T020000
RDATE:20270314T020000
END:DAYLIGHT
END:VTIMEZONE
BEGIN:VEVENT
UID:f1b13c4b-be51-4521-990f-aaf7c113867a
DTSTAMP:20260419T142256Z
DESCRIPTION:Join us for our rabies clinic happening November 29th from 11 A
 M to 2 PM! πΎ¨ Make sure to arrive by 1:30 PM.\n\nIt's just $40 per vaccinat
 ion for either a 1-year or 3-year rabies shot. π\n\nRemember\, all dogs ne
 ed to be on a leash and muzzled if necessary. πΆnAll cats should be transpo
 rted in a carrier. π±n\nIf you're looking for a 3-year vaccination\, please
  bring proof of your pet's last rabies vaccination. \n\n
DTSTART;TZID=America/New_York:20251129T110000
DTEND;TZID=America/New_York:20251129T140000
LOCATION:71 Industrial Park Drive\, Waldorf\, MD 20602 US
SUMMARY:Walk Up Rabies Clinic
END:VEVENT
END:VCALENDAR
