BEGIN:VCALENDAR
VERSION:2.0
PRODID:-//humanesocietycc.org//NONSGML kigkonsult.se iCalcreator 2.30.10//
CALSCALE:GREGORIAN
METHOD:PUBLISH
UID:4aec46b5-41e2-431f-b7bd-e4f5967ab164
X-WR-CALDESC:
X-WR-RELCALID:11bb07d47d22701b14e00962e3900acc
X-WR-TIMEZONE:America/New_York
BEGIN:VTIMEZONE
TZID:America/New_York
BEGIN:STANDARD
TZNAME:EST
DTSTART:20251102T020000
TZOFFSETFROM:-0400
TZOFFSETTO:-0500
RDATE:20261101T020000
END:STANDARD
BEGIN:DAYLIGHT
TZNAME:EDT
DTSTART:20250309T020000
TZOFFSETFROM:-0500
TZOFFSETTO:-0400
RDATE:20260308T020000
RDATE:20270314T020000
END:DAYLIGHT
END:VTIMEZONE
BEGIN:VEVENT
UID:6652a3d6-2cde-4759-b00d-0cc067e5d4ac
DTSTAMP:20260419T122749Z
DESCRIPTION:
DTSTART;TZID=America/New_York:20251201T000000
DTEND;TZID=America/New_York:20251201T235900
LOCATION:
SUMMARY:Shelter Closed
END:VEVENT
END:VCALENDAR
