BEGIN:VCALENDAR
VERSION:2.0
PRODID:-//humanesocietycc.org//NONSGML kigkonsult.se iCalcreator 2.30.10//
CALSCALE:GREGORIAN
METHOD:PUBLISH
UID:a943ea97-cd08-4562-8c48-709522a4abe2
X-WR-CALDESC:Humane Society of Charles County annual Holiday Craft Fair. Pl
 ease join us at Thomas Stone High School Sunday\, December 7\, 2025.\n\nTh
 e best crafters in Southern Maryland will have terrific items just in time
  for your holiday shopping.\n\nRaffles of donated craft items throughout t
 he day. Crafters can use the link to reserve their spot! \n\nWe cannot wai
 t to see you there!
X-WR-RELCALID:3c2b31f10343799ae26c738023afc7d3
X-WR-TIMEZONE:America/New_York
BEGIN:VTIMEZONE
TZID:America/New_York
BEGIN:STANDARD
TZNAME:EST
DTSTART:20251102T020000
TZOFFSETFROM:-0400
TZOFFSETTO:-0500
RDATE:20261101T020000
END:STANDARD
BEGIN:DAYLIGHT
TZNAME:EDT
DTSTART:20250309T020000
TZOFFSETFROM:-0500
TZOFFSETTO:-0400
RDATE:20260308T020000
RDATE:20270314T020000
END:DAYLIGHT
END:VTIMEZONE
BEGIN:VEVENT
UID:4bd63e85-82c9-4e7e-a23e-49212a5ba834
DTSTAMP:20260419T123253Z
DESCRIPTION:Humane Society of Charles County annual Holiday Craft Fair. Ple
 ase join us at Thomas Stone High School Sunday\, December 7\, 2025.\n\nThe
  best crafters in Southern Maryland will have terrific items just in time 
 for your holiday shopping.\n\nRaffles of donated craft items throughout th
 e day. Crafters can use the link to reserve their spot! \n\nWe cannot wait
  to see you there!
DTSTART;TZID=America/New_York:20251207T100000
DTEND;TZID=America/New_York:20251207T150000
LOCATION:Thomas Stone High School
SUMMARY:2025 Holiday Craft Fair
END:VEVENT
END:VCALENDAR
