BEGIN:VCALENDAR
VERSION:2.0
PRODID:-//humanesocietycc.org//NONSGML kigkonsult.se iCalcreator 2.30.10//
CALSCALE:GREGORIAN
METHOD:PUBLISH
UID:5ccba463-39ab-4563-88b2-c826545e4daa
X-WR-CALDESC:
X-WR-RELCALID:458e6c1928a025473641d52450536bc0
X-WR-TIMEZONE:America/New_York
BEGIN:VTIMEZONE
TZID:America/New_York
BEGIN:STANDARD
TZNAME:EST
DTSTART:20251102T020000
TZOFFSETFROM:-0400
TZOFFSETTO:-0500
RDATE:20261101T020000
END:STANDARD
BEGIN:DAYLIGHT
TZNAME:EDT
DTSTART:20250309T020000
TZOFFSETFROM:-0500
TZOFFSETTO:-0400
RDATE:20260308T020000
RDATE:20270314T020000
END:DAYLIGHT
END:VTIMEZONE
BEGIN:VEVENT
UID:683dc267-e16f-466b-977c-98d853c10ae7
DTSTAMP:20260419T123112Z
DESCRIPTION:
DTSTART;TZID=America/New_York:20251208T000000
DTEND;TZID=America/New_York:20251208T235900
LOCATION:
SUMMARY:Shelter Closed
END:VEVENT
END:VCALENDAR
