BEGIN:VCALENDAR
VERSION:2.0
PRODID:-//humanesocietycc.org//NONSGML kigkonsult.se iCalcreator 2.30.10//
CALSCALE:GREGORIAN
METHOD:PUBLISH
UID:31eb6183-757c-4b26-aab5-146b12dfa226
X-WR-CALDESC:
X-WR-RELCALID:98b4ddd07074e0c75259d061174b16ae
X-WR-TIMEZONE:America/New_York
BEGIN:VTIMEZONE
TZID:America/New_York
BEGIN:STANDARD
TZNAME:EST
DTSTART:20251102T020000
TZOFFSETFROM:-0400
TZOFFSETTO:-0500
RDATE:20261101T020000
END:STANDARD
BEGIN:DAYLIGHT
TZNAME:EDT
DTSTART:20250309T020000
TZOFFSETFROM:-0500
TZOFFSETTO:-0400
RDATE:20260308T020000
RDATE:20270314T020000
END:DAYLIGHT
END:VTIMEZONE
BEGIN:VEVENT
UID:efb5c6d9-00b4-41ae-95f5-f7ae9772a29a
DTSTAMP:20260419T122625Z
DESCRIPTION:
DTSTART;TZID=America/New_York:20251213T100000
DTEND;TZID=America/New_York:20251213T140000
LOCATION:71 Industrial Park Drive\, Waldorf\, MD 20602 US
SUMMARY:CANCELED: KIND Club ┆Winter Birds in my Backyard
END:VEVENT
END:VCALENDAR
