BEGIN:VCALENDAR
VERSION:2.0
PRODID:-//humanesocietycc.org//NONSGML kigkonsult.se iCalcreator 2.30.10//
CALSCALE:GREGORIAN
METHOD:PUBLISH
UID:4e8e70ef-4e36-49a3-9ef3-ae8abf8934b9
X-WR-CALDESC:Most Needed Items:\n🐾Purina Pro Plan Sensitive Skin and Stomac
 h wet and dry food\n🐾Purina Pro Plan Puppy food wet and dry\n🐾Purina Dog C
 how and Puppy Chow (with or without chicken)\n🐾Super chewer dog toys\n🐾Cat
  toys\n🐾Dog Calming treats\n🐾Pet Safe Ice Melt\n🐾Hidey Houses\n🐾Cosequin s
 upplements\n🐾Dasuquin supplements\n🐾Dog and cat food bowls\n🐾Feliway refil
 ls and Feliway wipes\n🐾Clumping litter\n🐾Non-clumping litter\n🐾Pill Pocket
 s\n🐾Salmon oil\n🐾Friskies wet food\n🐾Kitten pate
X-WR-RELCALID:0fadf0bbaea93ce6e400ce0aaa77d077
X-WR-TIMEZONE:America/New_York
BEGIN:VTIMEZONE
TZID:America/New_York
BEGIN:STANDARD
TZNAME:EST
DTSTART:20251102T020000
TZOFFSETFROM:-0400
TZOFFSETTO:-0500
RDATE:20261101T020000
END:STANDARD
BEGIN:DAYLIGHT
TZNAME:EDT
DTSTART:20250309T020000
TZOFFSETFROM:-0500
TZOFFSETTO:-0400
RDATE:20260308T020000
RDATE:20270314T020000
END:DAYLIGHT
END:VTIMEZONE
BEGIN:VEVENT
UID:dbab1dba-0beb-4634-81be-32422d7776cf
DTSTAMP:20260419T123210Z
DESCRIPTION:Most Needed Items:\n🐾Purina Pro Plan Sensitive Skin and Stomach
  wet and dry food\n🐾Purina Pro Plan Puppy food wet and dry\n🐾Purina Dog Ch
 ow and Puppy Chow (with or without chicken)\n🐾Super chewer dog toys\n🐾Cat 
 toys\n🐾Dog Calming treats\n🐾Pet Safe Ice Melt\n🐾Hidey Houses\n🐾Cosequin su
 pplements\n🐾Dasuquin supplements\n🐾Dog and cat food bowls\n🐾Feliway refill
 s and Feliway wipes\n🐾Clumping litter\n🐾Non-clumping litter\n🐾Pill Pockets
 \nnSalmon oil\n🐾Friskies wet food\n🐾Kitten pate
DTSTART;TZID=America/New_York:20251213T080000
DTEND;TZID=America/New_York:20251213T150000
LOCATION:Petsmart in Waldorf
SUMMARY:Fill the Van
END:VEVENT
END:VCALENDAR
