BEGIN:VCALENDAR
VERSION:2.0
PRODID:-//humanesocietycc.org//NONSGML kigkonsult.se iCalcreator 2.30.10//
CALSCALE:GREGORIAN
METHOD:PUBLISH
UID:1d1ef106-c37e-40b2-9e56-57e142c03441
X-WR-CALDESC:
X-WR-RELCALID:d01127493e4a2b87ce51d2bd0ba0a35e
X-WR-TIMEZONE:America/New_York
BEGIN:VTIMEZONE
TZID:America/New_York
BEGIN:STANDARD
TZNAME:EST
DTSTART:20251102T020000
TZOFFSETFROM:-0400
TZOFFSETTO:-0500
RDATE:20261101T020000
END:STANDARD
BEGIN:DAYLIGHT
TZNAME:EDT
DTSTART:20250309T020000
TZOFFSETFROM:-0500
TZOFFSETTO:-0400
RDATE:20260308T020000
RDATE:20270314T020000
END:DAYLIGHT
END:VTIMEZONE
BEGIN:VEVENT
UID:79992e61-95b7-4f81-8171-916c0d682a18
DTSTAMP:20260419T122749Z
DESCRIPTION:
DTSTART;TZID=America/New_York:20251222T000000
DTEND;TZID=America/New_York:20251222T235900
LOCATION:
SUMMARY:Shelter Closed
END:VEVENT
END:VCALENDAR
