BEGIN:VCALENDAR
VERSION:2.0
PRODID:-//humanesocietycc.org//NONSGML kigkonsult.se iCalcreator 2.30.10//
CALSCALE:GREGORIAN
METHOD:PUBLISH
UID:0c4b23f2-cca5-4ed4-9f50-d384e3652c9e
X-WR-CALDESC:The shelter is closed today for the holiday. We can't wait to 
 see you soon!
X-WR-RELCALID:8e0babf5ea49b062d021f45942e38aaa
X-WR-TIMEZONE:America/New_York
BEGIN:VTIMEZONE
TZID:America/New_York
BEGIN:STANDARD
TZNAME:EST
DTSTART:20251102T020000
TZOFFSETFROM:-0400
TZOFFSETTO:-0500
RDATE:20261101T020000
END:STANDARD
BEGIN:DAYLIGHT
TZNAME:EDT
DTSTART:20250309T020000
TZOFFSETFROM:-0500
TZOFFSETTO:-0400
RDATE:20260308T020000
RDATE:20270314T020000
END:DAYLIGHT
END:VTIMEZONE
BEGIN:VEVENT
UID:5f3da54b-f531-451b-b6db-851d378c0ef9
DTSTAMP:20260419T122447Z
DESCRIPTION:The shelter is closed today for the holiday. We can't wait to s
 ee you soon!
DTSTART;TZID=America/New_York:20251225T000000
DTEND;TZID=America/New_York:20251225T235900
LOCATION:
SUMMARY:Shelter Closed
END:VEVENT
END:VCALENDAR
