BEGIN:VCALENDAR
VERSION:2.0
PRODID:-//humanesocietycc.org//NONSGML kigkonsult.se iCalcreator 2.30.10//
CALSCALE:GREGORIAN
METHOD:PUBLISH
UID:7b2e55b0-476b-4c42-b8a6-5cfc7e35304b
X-WR-CALDESC:
X-WR-RELCALID:48ed14da211725c572c769dd036f7089
X-WR-TIMEZONE:America/New_York
BEGIN:VTIMEZONE
TZID:America/New_York
BEGIN:STANDARD
TZNAME:EST
DTSTART:20251102T020000
TZOFFSETFROM:-0400
TZOFFSETTO:-0500
RDATE:20261101T020000
END:STANDARD
BEGIN:DAYLIGHT
TZNAME:EDT
DTSTART:20250309T020000
TZOFFSETFROM:-0500
TZOFFSETTO:-0400
RDATE:20260308T020000
RDATE:20270314T020000
END:DAYLIGHT
END:VTIMEZONE
BEGIN:VEVENT
UID:40315605-fdb0-4a78-a17b-cf35fdf0a82c
DTSTAMP:20260419T122631Z
DESCRIPTION:
DTSTART;TZID=America/New_York:20251229T000000
DTEND;TZID=America/New_York:20251229T235900
LOCATION:
SUMMARY:Shelter Closed
END:VEVENT
END:VCALENDAR
