BEGIN:VCALENDAR
VERSION:2.0
PRODID:-//humanesocietycc.org//NONSGML kigkonsult.se iCalcreator 2.30.10//
CALSCALE:GREGORIAN
METHOD:PUBLISH
UID:f7e460c0-eab6-4997-8751-9cf7bb0a0f79
X-WR-CALDESC:
X-WR-RELCALID:a34b9cb4776195f410e74f38ef250442
X-WR-TIMEZONE:America/New_York
BEGIN:VTIMEZONE
TZID:America/New_York
BEGIN:STANDARD
TZNAME:EST
DTSTART:20251102T020000
TZOFFSETFROM:-0400
TZOFFSETTO:-0500
RDATE:20261101T020000
END:STANDARD
BEGIN:DAYLIGHT
TZNAME:EDT
DTSTART:20250309T020000
TZOFFSETFROM:-0500
TZOFFSETTO:-0400
RDATE:20260308T020000
RDATE:20270314T020000
END:DAYLIGHT
END:VTIMEZONE
BEGIN:VEVENT
UID:5728b2bf-210e-40fa-aaa2-3a2e9094200f
DTSTAMP:20260421T094339Z
DESCRIPTION:
DTSTART;TZID=America/New_York:20260105T000000
DTEND;TZID=America/New_York:20260105T235900
LOCATION:
SUMMARY:Shelter Closed
END:VEVENT
END:VCALENDAR
