BEGIN:VCALENDAR
VERSION:2.0
PRODID:-//humanesocietycc.org//NONSGML kigkonsult.se iCalcreator 2.30.10//
CALSCALE:GREGORIAN
METHOD:PUBLISH
UID:779fb00d-8313-4908-b53a-22796cc6204e
X-WR-CALDESC:
X-WR-RELCALID:b002551d53bab5f7e11f93e117cd4ac6
X-WR-TIMEZONE:America/New_York
BEGIN:VTIMEZONE
TZID:America/New_York
BEGIN:STANDARD
TZNAME:EST
DTSTART:20251102T020000
TZOFFSETFROM:-0400
TZOFFSETTO:-0500
RDATE:20261101T020000
END:STANDARD
BEGIN:DAYLIGHT
TZNAME:EDT
DTSTART:20250309T020000
TZOFFSETFROM:-0500
TZOFFSETTO:-0400
RDATE:20260308T020000
RDATE:20270314T020000
END:DAYLIGHT
END:VTIMEZONE
BEGIN:VEVENT
UID:e2526161-a66f-43fd-b2b3-02c60760b316
DTSTAMP:20260421T102456Z
DESCRIPTION:
DTSTART;TZID=America/New_York:20260110T100000
DTEND;TZID=America/New_York:20260110T140000
LOCATION:71 Industrial Park Drive\, Waldorf\, MD 20602 US
SUMMARY:KIND Club ┆Fantastic Felines
END:VEVENT
END:VCALENDAR
