BEGIN:VCALENDAR
VERSION:2.0
PRODID:-//humanesocietycc.org//NONSGML kigkonsult.se iCalcreator 2.30.10//
CALSCALE:GREGORIAN
METHOD:PUBLISH
UID:21da1548-ce2f-4b2a-bcbe-cf0dd578261e
X-WR-CALDESC:
X-WR-RELCALID:59aa429fd7ae7675db2c84b622f420f7
X-WR-TIMEZONE:America/New_York
BEGIN:VTIMEZONE
TZID:America/New_York
BEGIN:STANDARD
TZNAME:EST
DTSTART:20251102T020000
TZOFFSETFROM:-0400
TZOFFSETTO:-0500
RDATE:20261101T020000
END:STANDARD
BEGIN:DAYLIGHT
TZNAME:EDT
DTSTART:20250309T020000
TZOFFSETFROM:-0500
TZOFFSETTO:-0400
RDATE:20260308T020000
RDATE:20270314T020000
END:DAYLIGHT
END:VTIMEZONE
BEGIN:VEVENT
UID:04923ff8-a0d0-456e-9727-5c9ed553591c
DTSTAMP:20260425T102548Z
DESCRIPTION:
DTSTART;TZID=America/New_York:20260112T000000
DTEND;TZID=America/New_York:20260112T235900
LOCATION:
SUMMARY:Shelter Closed
END:VEVENT
END:VCALENDAR
