BEGIN:VCALENDAR
VERSION:2.0
PRODID:-//humanesocietycc.org//NONSGML kigkonsult.se iCalcreator 2.30.10//
CALSCALE:GREGORIAN
METHOD:PUBLISH
UID:0a18fe34-c514-43fa-8843-994fd414080f
X-WR-CALDESC:
X-WR-RELCALID:a602a77e762afadee0275626a142514f
X-WR-TIMEZONE:America/New_York
BEGIN:VTIMEZONE
TZID:America/New_York
BEGIN:STANDARD
TZNAME:EST
DTSTART:20251102T020000
TZOFFSETFROM:-0400
TZOFFSETTO:-0500
RDATE:20261101T020000
END:STANDARD
BEGIN:DAYLIGHT
TZNAME:EDT
DTSTART:20250309T020000
TZOFFSETFROM:-0500
TZOFFSETTO:-0400
RDATE:20260308T020000
RDATE:20270314T020000
END:DAYLIGHT
END:VTIMEZONE
BEGIN:VEVENT
UID:48b67214-3e82-4c02-b55b-39ae9036790c
DTSTAMP:20260421T101007Z
DESCRIPTION:
DTSTART;TZID=America/New_York:20260126T000000
DTEND;TZID=America/New_York:20260126T235900
LOCATION:
SUMMARY:Shelter Closed
END:VEVENT
END:VCALENDAR
