BEGIN:VCALENDAR
VERSION:2.0
PRODID:-//humanesocietycc.org//NONSGML kigkonsult.se iCalcreator 2.30.10//
CALSCALE:GREGORIAN
METHOD:PUBLISH
UID:20894618-a312-4082-8578-bf483c51f9b6
X-WR-CALDESC:Registration is now closed\, but we can't wait to see you for 
 the next session!
X-WR-RELCALID:fbd34609c875c8aa122869200c3d79d4
X-WR-TIMEZONE:America/New_York
BEGIN:VTIMEZONE
TZID:America/New_York
BEGIN:STANDARD
TZNAME:EST
DTSTART:20251102T020000
TZOFFSETFROM:-0400
TZOFFSETTO:-0500
RDATE:20261101T020000
END:STANDARD
BEGIN:DAYLIGHT
TZNAME:EDT
DTSTART:20250309T020000
TZOFFSETFROM:-0500
TZOFFSETTO:-0400
RDATE:20260308T020000
RDATE:20270314T020000
END:DAYLIGHT
END:VTIMEZONE
BEGIN:VEVENT
UID:623757d0-dfbb-4dc4-8d95-7eb842f41135
DTSTAMP:20260421T083737Z
DESCRIPTION:Registration is now closed\, but we can't wait to see you for t
 he next session!
DTSTART;TZID=America/New_York:20260214T100000
DTEND;TZID=America/New_York:20260214T140000
LOCATION:71 Industrial Park Drive\, Waldorf\, MD 20602 US
SUMMARY:KIND Club ┆Showing Kindness to 'Unlovable\,' Misunderstood Creature
 s
END:VEVENT
END:VCALENDAR
