BEGIN:VCALENDAR
VERSION:2.0
PRODID:-//humanesocietycc.org//NONSGML kigkonsult.se iCalcreator 2.30.10//
CALSCALE:GREGORIAN
METHOD:PUBLISH
UID:be6e7372-a575-4991-80e5-3e6c302e825b
X-WR-CALDESC:
X-WR-RELCALID:a52e397acd37140e06f0c3f697f2844e
X-WR-TIMEZONE:America/New_York
BEGIN:VTIMEZONE
TZID:America/New_York
BEGIN:STANDARD
TZNAME:EST
DTSTART:20251102T020000
TZOFFSETFROM:-0400
TZOFFSETTO:-0500
RDATE:20261101T020000
END:STANDARD
BEGIN:DAYLIGHT
TZNAME:EDT
DTSTART:20250309T020000
TZOFFSETFROM:-0500
TZOFFSETTO:-0400
RDATE:20260308T020000
RDATE:20270314T020000
END:DAYLIGHT
END:VTIMEZONE
BEGIN:VEVENT
UID:764ad30e-6a0f-4877-ac3d-909213491686
DTSTAMP:20260421T083710Z
DESCRIPTION:
DTSTART;TZID=America/New_York:20260228T090000
DTEND;TZID=America/New_York:20260228T130000
LOCATION:71 Industrial Park Dr\, Waldorf\, MD 20602 US
SUMMARY:HSCC Yard Sale
END:VEVENT
END:VCALENDAR
