BEGIN:VCALENDAR
VERSION:2.0
PRODID:-//humanesocietycc.org//NONSGML kigkonsult.se iCalcreator 2.30.10//
CALSCALE:GREGORIAN
METHOD:PUBLISH
UID:24f05015-67a9-4222-920d-45df783638bc
X-WR-CALDESC:
X-WR-RELCALID:88478bb93c21781b4ef7736a671edd8b
X-WR-TIMEZONE:America/New_York
BEGIN:VTIMEZONE
TZID:America/New_York
BEGIN:STANDARD
TZNAME:EST
DTSTART:20251102T020000
TZOFFSETFROM:-0400
TZOFFSETTO:-0500
RDATE:20261101T020000
RDATE:20271107T020000
END:STANDARD
BEGIN:DAYLIGHT
TZNAME:EDT
DTSTART:20260308T020000
TZOFFSETFROM:-0500
TZOFFSETTO:-0400
RDATE:20270314T020000
END:DAYLIGHT
END:VTIMEZONE
BEGIN:VEVENT
UID:4fbc6d4a-c6cb-4e09-9bc0-7c9c2ec03209
DTSTAMP:20260421T084149Z
DESCRIPTION:
DTSTART;TZID=America/New_York:20260615T000000
DTEND;TZID=America/New_York:20260615T235900
LOCATION:
SUMMARY:Shelter Closed
END:VEVENT
END:VCALENDAR
