BEGIN:VCALENDAR
VERSION:2.0
PRODID:-//humanesocietycc.org//NONSGML kigkonsult.se iCalcreator 2.30.10//
CALSCALE:GREGORIAN
METHOD:PUBLISH
UID:1d1796c0-15f4-416c-82ea-9f1a4b69bcfe
X-WR-CALDESC:
X-WR-RELCALID:cbde8a70a79ae5fcca997a38e6d4f472
X-WR-TIMEZONE:America/New_York
BEGIN:VTIMEZONE
TZID:America/New_York
BEGIN:STANDARD
TZNAME:EST
DTSTART:20251102T020000
TZOFFSETFROM:-0400
TZOFFSETTO:-0500
RDATE:20261101T020000
RDATE:20271107T020000
END:STANDARD
BEGIN:DAYLIGHT
TZNAME:EDT
DTSTART:20260308T020000
TZOFFSETFROM:-0500
TZOFFSETTO:-0400
RDATE:20270314T020000
END:DAYLIGHT
END:VTIMEZONE
BEGIN:VEVENT
UID:76b1792e-34b8-4eb4-977a-f9524bb96028
DTSTAMP:20260421T083819Z
DESCRIPTION:
DTSTART;TZID=America/New_York:20260622T000000
DTEND;TZID=America/New_York:20260622T235900
LOCATION:
SUMMARY:Shelter Closed
END:VEVENT
END:VCALENDAR
