BEGIN:VCALENDAR
VERSION:2.0
PRODID:-//humanesocietycc.org//NONSGML kigkonsult.se iCalcreator 2.30.10//
CALSCALE:GREGORIAN
METHOD:PUBLISH
UID:616cc0c7-eb62-477d-87e4-a1e7af45faf5
X-WR-CALDESC:
X-WR-RELCALID:05d47327a180d0fad2ed9569a97ec55f
X-WR-TIMEZONE:America/New_York
BEGIN:VTIMEZONE
TZID:America/New_York
BEGIN:STANDARD
TZNAME:EST
DTSTART:20251102T020000
TZOFFSETFROM:-0400
TZOFFSETTO:-0500
RDATE:20261101T020000
RDATE:20271107T020000
END:STANDARD
BEGIN:DAYLIGHT
TZNAME:EDT
DTSTART:20260308T020000
TZOFFSETFROM:-0500
TZOFFSETTO:-0400
RDATE:20270314T020000
END:DAYLIGHT
END:VTIMEZONE
BEGIN:VEVENT
UID:e33db6ed-2f20-492e-90bb-89bd85f1880c
DTSTAMP:20260421T083120Z
DESCRIPTION:
DTSTART;TZID=America/New_York:20260629T000000
DTEND;TZID=America/New_York:20260629T235900
LOCATION:
SUMMARY:Shelter Closed
END:VEVENT
END:VCALENDAR
