BEGIN:VCALENDAR
VERSION:2.0
PRODID:-//humanesocietycc.org//NONSGML kigkonsult.se iCalcreator 2.30.10//
CALSCALE:GREGORIAN
METHOD:PUBLISH
UID:b4c49aae-846d-46a9-807b-5958542c25fb
X-WR-CALDESC:
X-WR-RELCALID:9c02ba0660b2886e36820de34a89b1d9
X-WR-TIMEZONE:America/New_York
BEGIN:VTIMEZONE
TZID:America/New_York
BEGIN:STANDARD
TZNAME:EST
DTSTART:20251102T020000
TZOFFSETFROM:-0400
TZOFFSETTO:-0500
RDATE:20261101T020000
RDATE:20271107T020000
END:STANDARD
BEGIN:DAYLIGHT
TZNAME:EDT
DTSTART:20260308T020000
TZOFFSETFROM:-0500
TZOFFSETTO:-0400
RDATE:20270314T020000
END:DAYLIGHT
END:VTIMEZONE
BEGIN:VEVENT
UID:6aed4905-69fb-4fd8-937f-a6648dee6dd6
DTSTAMP:20260421T094501Z
DESCRIPTION:
DTSTART;TZID=America/New_York:20260706T000000
DTEND;TZID=America/New_York:20260706T235900
LOCATION:
SUMMARY:Shelter Closed
END:VEVENT
END:VCALENDAR
