BEGIN:VCALENDAR
VERSION:2.0
PRODID:-//humanesocietycc.org//NONSGML kigkonsult.se iCalcreator 2.30.10//
CALSCALE:GREGORIAN
METHOD:PUBLISH
UID:0aa94bc8-f8c7-4a08-9aab-6faa62b67577
X-WR-CALDESC:
X-WR-RELCALID:956708b106a30ad276748d8cdd184bb8
X-WR-TIMEZONE:America/New_York
BEGIN:VTIMEZONE
TZID:America/New_York
BEGIN:STANDARD
TZNAME:EST
DTSTART:20251102T020000
TZOFFSETFROM:-0400
TZOFFSETTO:-0500
RDATE:20261101T020000
RDATE:20271107T020000
END:STANDARD
BEGIN:DAYLIGHT
TZNAME:EDT
DTSTART:20260308T020000
TZOFFSETFROM:-0500
TZOFFSETTO:-0400
RDATE:20270314T020000
END:DAYLIGHT
END:VTIMEZONE
BEGIN:VEVENT
UID:f3b0b7b8-63c7-402b-a476-c720067a1af5
DTSTAMP:20260421T102846Z
DESCRIPTION:
DTSTART;TZID=America/New_York:20260713T000000
DTEND;TZID=America/New_York:20260713T235900
LOCATION:
SUMMARY:Shelter Closed
END:VEVENT
END:VCALENDAR
