BEGIN:VCALENDAR
VERSION:2.0
PRODID:-//humanesocietycc.org//NONSGML kigkonsult.se iCalcreator 2.30.10//
CALSCALE:GREGORIAN
METHOD:PUBLISH
UID:c33b32e9-0caa-46a5-affe-a073d84fd20a
X-WR-CALDESC:
X-WR-RELCALID:3ab3c16ddc0f840d9b2085a976872230
X-WR-TIMEZONE:America/New_York
BEGIN:VTIMEZONE
TZID:America/New_York
BEGIN:STANDARD
TZNAME:EST
DTSTART:20251102T020000
TZOFFSETFROM:-0400
TZOFFSETTO:-0500
RDATE:20261101T020000
RDATE:20271107T020000
END:STANDARD
BEGIN:DAYLIGHT
TZNAME:EDT
DTSTART:20260308T020000
TZOFFSETFROM:-0500
TZOFFSETTO:-0400
RDATE:20270314T020000
END:DAYLIGHT
END:VTIMEZONE
BEGIN:VEVENT
UID:04d702e3-24fa-4b13-b4f9-0d8b13523f6e
DTSTAMP:20260421T100557Z
DESCRIPTION:
DTSTART;TZID=America/New_York:20260727T000000
DTEND;TZID=America/New_York:20260727T235900
LOCATION:
SUMMARY:Shelter Closed
END:VEVENT
END:VCALENDAR
