BEGIN:VCALENDAR
VERSION:2.0
PRODID:-//humanesocietycc.org//NONSGML kigkonsult.se iCalcreator 2.30.10//
CALSCALE:GREGORIAN
METHOD:PUBLISH
UID:3861dc9f-984c-4fd6-b094-3373fbe2018b
X-WR-CALDESC:
X-WR-RELCALID:febe0d38aca9cee3f74933a7061db381
X-WR-TIMEZONE:America/New_York
BEGIN:VTIMEZONE
TZID:America/New_York
BEGIN:STANDARD
TZNAME:EST
DTSTART:20251102T020000
TZOFFSETFROM:-0400
TZOFFSETTO:-0500
RDATE:20261101T020000
RDATE:20271107T020000
END:STANDARD
BEGIN:DAYLIGHT
TZNAME:EDT
DTSTART:20260308T020000
TZOFFSETFROM:-0500
TZOFFSETTO:-0400
RDATE:20270314T020000
END:DAYLIGHT
END:VTIMEZONE
BEGIN:VEVENT
UID:e7e41e97-935a-4d36-a514-2a255516f993
DTSTAMP:20260423T084616Z
DESCRIPTION:
DTSTART;TZID=America/New_York:20260817T000000
DTEND;TZID=America/New_York:20260817T235900
LOCATION:
SUMMARY:Shelter Closed
END:VEVENT
END:VCALENDAR
