BEGIN:VCALENDAR
VERSION:2.0
PRODID:-//humanesocietycc.org//NONSGML kigkonsult.se iCalcreator 2.30.10//
CALSCALE:GREGORIAN
METHOD:PUBLISH
UID:5ef28855-3612-4b6c-8ca2-89c734206781
X-WR-CALDESC:
X-WR-RELCALID:d9e0d6c52b3fa4551ad7bfdd4cf470b5
X-WR-TIMEZONE:America/New_York
BEGIN:VTIMEZONE
TZID:America/New_York
BEGIN:STANDARD
TZNAME:EST
DTSTART:20251102T020000
TZOFFSETFROM:-0400
TZOFFSETTO:-0500
RDATE:20261101T020000
RDATE:20271107T020000
END:STANDARD
BEGIN:DAYLIGHT
TZNAME:EDT
DTSTART:20260308T020000
TZOFFSETFROM:-0500
TZOFFSETTO:-0400
RDATE:20270314T020000
END:DAYLIGHT
END:VTIMEZONE
BEGIN:VEVENT
UID:c6574963-ee83-437a-a630-0c151fb70793
DTSTAMP:20260421T110555Z
DESCRIPTION:
DTSTART;TZID=America/New_York:20260824T000000
DTEND;TZID=America/New_York:20260824T235900
LOCATION:
SUMMARY:Shelter Closed
END:VEVENT
END:VCALENDAR
