BEGIN:VCALENDAR
VERSION:2.0
PRODID:-//humanesocietycc.org//NONSGML kigkonsult.se iCalcreator 2.30.10//
CALSCALE:GREGORIAN
METHOD:PUBLISH
UID:31360090-5741-4898-ac14-34911fea09ff
X-WR-CALDESC:
X-WR-RELCALID:4bf19b31641e5a04ecc8f1ac8b7361d9
X-WR-TIMEZONE:America/New_York
BEGIN:VTIMEZONE
TZID:America/New_York
BEGIN:STANDARD
TZNAME:EST
DTSTART:20251102T020000
TZOFFSETFROM:-0400
TZOFFSETTO:-0500
RDATE:20261101T020000
RDATE:20271107T020000
END:STANDARD
BEGIN:DAYLIGHT
TZNAME:EDT
DTSTART:20260308T020000
TZOFFSETFROM:-0500
TZOFFSETTO:-0400
RDATE:20270314T020000
END:DAYLIGHT
END:VTIMEZONE
BEGIN:VEVENT
UID:cc414320-3e60-4f3d-b785-a38e471fa77a
DTSTAMP:20260421T112630Z
DESCRIPTION:
DTSTART;TZID=America/New_York:20260831T000000
DTEND;TZID=America/New_York:20260831T235900
LOCATION:
SUMMARY:Shelter Closed
END:VEVENT
END:VCALENDAR
