BEGIN:VCALENDAR
VERSION:2.0
PRODID:-//humanesocietycc.org//NONSGML kigkonsult.se iCalcreator 2.30.10//
CALSCALE:GREGORIAN
METHOD:PUBLISH
UID:f4bf51e9-2b3b-476f-9fdd-0dcbe6913a66
X-WR-CALDESC:
X-WR-RELCALID:5c05a3142fd92877610db8b850ccde77
X-WR-TIMEZONE:America/New_York
BEGIN:VTIMEZONE
TZID:America/New_York
BEGIN:STANDARD
TZNAME:EST
DTSTART:20251102T020000
TZOFFSETFROM:-0400
TZOFFSETTO:-0500
RDATE:20261101T020000
RDATE:20271107T020000
END:STANDARD
BEGIN:DAYLIGHT
TZNAME:EDT
DTSTART:20260308T020000
TZOFFSETFROM:-0500
TZOFFSETTO:-0400
RDATE:20270314T020000
END:DAYLIGHT
END:VTIMEZONE
BEGIN:VEVENT
UID:5dab7d25-3b93-4cad-a7d8-a2f19f393f2e
DTSTAMP:20260421T125205Z
DESCRIPTION:
DTSTART;TZID=America/New_York:20260907T000000
DTEND;TZID=America/New_York:20260907T235900
LOCATION:
SUMMARY:Shelter Closed
END:VEVENT
END:VCALENDAR
