BEGIN:VCALENDAR
VERSION:2.0
PRODID:-//humanesocietycc.org//NONSGML kigkonsult.se iCalcreator 2.30.10//
CALSCALE:GREGORIAN
METHOD:PUBLISH
UID:7aed8d6c-ed8d-4e41-88ed-ed9e5ce7d9c3
X-WR-CALDESC:
X-WR-RELCALID:8ad3667c12ff614d8a983d72604b6bd6
X-WR-TIMEZONE:America/New_York
BEGIN:VTIMEZONE
TZID:America/New_York
BEGIN:STANDARD
TZNAME:EST
DTSTART:20251102T020000
TZOFFSETFROM:-0400
TZOFFSETTO:-0500
RDATE:20261101T020000
RDATE:20271107T020000
END:STANDARD
BEGIN:DAYLIGHT
TZNAME:EDT
DTSTART:20260308T020000
TZOFFSETFROM:-0500
TZOFFSETTO:-0400
RDATE:20270314T020000
RDATE:20280312T020000
END:DAYLIGHT
END:VTIMEZONE
BEGIN:VEVENT
UID:25490795-bd46-450a-93be-cb9abdfda6fc
DTSTAMP:20260421T125513Z
DESCRIPTION:
DTSTART;TZID=America/New_York:20260914T000000
DTEND;TZID=America/New_York:20260914T235900
LOCATION:
SUMMARY:Shelter Closed
END:VEVENT
END:VCALENDAR
