BEGIN:VCALENDAR
VERSION:2.0
PRODID:-//humanesocietycc.org//NONSGML kigkonsult.se iCalcreator 2.30.10//
CALSCALE:GREGORIAN
METHOD:PUBLISH
UID:3f456949-4795-4e09-8c6f-344125602a97
X-WR-CALDESC:
X-WR-RELCALID:0e408034ac07cc78e7a8571f83bc896c
X-WR-TIMEZONE:America/New_York
BEGIN:VTIMEZONE
TZID:America/New_York
BEGIN:STANDARD
TZNAME:EST
DTSTART:20251102T020000
TZOFFSETFROM:-0400
TZOFFSETTO:-0500
RDATE:20261101T020000
RDATE:20271107T020000
END:STANDARD
BEGIN:DAYLIGHT
TZNAME:EDT
DTSTART:20260308T020000
TZOFFSETFROM:-0500
TZOFFSETTO:-0400
RDATE:20270314T020000
RDATE:20280312T020000
END:DAYLIGHT
END:VTIMEZONE
BEGIN:VEVENT
UID:df2a5a6c-0f37-448d-b288-fd38935b988e
DTSTAMP:20260421T141802Z
DESCRIPTION:
DTSTART;TZID=America/New_York:20261005T000000
DTEND;TZID=America/New_York:20261005T235900
LOCATION:
SUMMARY:Shelter Closed
END:VEVENT
END:VCALENDAR
