BEGIN:VCALENDAR
VERSION:2.0
PRODID:-//humanesocietycc.org//NONSGML kigkonsult.se iCalcreator 2.30.10//
CALSCALE:GREGORIAN
METHOD:PUBLISH
UID:c51b120c-0a6d-4ab7-9406-40f30f9bc827
X-WR-CALDESC:
X-WR-RELCALID:b4d107bf735e3a5ea4490e9c98f6715f
X-WR-TIMEZONE:America/New_York
BEGIN:VTIMEZONE
TZID:America/New_York
BEGIN:STANDARD
TZNAME:EST
DTSTART:20251102T020000
TZOFFSETFROM:-0400
TZOFFSETTO:-0500
RDATE:20261101T020000
RDATE:20271107T020000
END:STANDARD
BEGIN:DAYLIGHT
TZNAME:EDT
DTSTART:20260308T020000
TZOFFSETFROM:-0500
TZOFFSETTO:-0400
RDATE:20270314T020000
RDATE:20280312T020000
END:DAYLIGHT
END:VTIMEZONE
BEGIN:VEVENT
UID:b0900647-76ee-4bbe-8fd6-69ce351dee95
DTSTAMP:20260421T142427Z
DESCRIPTION:
DTSTART;TZID=America/New_York:20261019T000000
DTEND;TZID=America/New_York:20261019T235900
LOCATION:
SUMMARY:Shelter Closed
END:VEVENT
END:VCALENDAR
