BEGIN:VCALENDAR
VERSION:2.0
PRODID:-//humanesocietycc.org//NONSGML kigkonsult.se iCalcreator 2.30.10//
CALSCALE:GREGORIAN
METHOD:PUBLISH
UID:7b15ee85-66ad-4f98-8727-8a0d99c45955
X-WR-CALDESC:
X-WR-RELCALID:58c3901e5f8914b28666392109d725b9
X-WR-TIMEZONE:America/New_York
BEGIN:VTIMEZONE
TZID:America/New_York
BEGIN:STANDARD
TZNAME:EST
DTSTART:20251102T020000
TZOFFSETFROM:-0400
TZOFFSETTO:-0500
RDATE:20261101T020000
RDATE:20271107T020000
END:STANDARD
BEGIN:DAYLIGHT
TZNAME:EDT
DTSTART:20260308T020000
TZOFFSETFROM:-0500
TZOFFSETTO:-0400
RDATE:20270314T020000
RDATE:20280312T020000
END:DAYLIGHT
END:VTIMEZONE
BEGIN:VEVENT
UID:12a3a0ef-53de-4a1b-b214-dc22702e84b3
DTSTAMP:20260421T141508Z
DESCRIPTION:
DTSTART;TZID=America/New_York:20261026T000000
DTEND;TZID=America/New_York:20261026T235900
LOCATION:
SUMMARY:Shelter Closed
END:VEVENT
END:VCALENDAR
