BEGIN:VCALENDAR
VERSION:2.0
PRODID:-//humanesocietycc.org//NONSGML kigkonsult.se iCalcreator 2.30.10//
CALSCALE:GREGORIAN
METHOD:PUBLISH
UID:88c4bf0f-0d0e-4eb9-800d-9fb4d5f0e4f9
X-WR-CALDESC:
X-WR-RELCALID:d5ed839a4f74784b16c7a5d25e8e78a4
X-WR-TIMEZONE:America/New_York
BEGIN:VTIMEZONE
TZID:America/New_York
BEGIN:STANDARD
TZNAME:EST
DTSTART:20251102T020000
TZOFFSETFROM:-0400
TZOFFSETTO:-0500
RDATE:20261101T020000
RDATE:20271107T020000
END:STANDARD
BEGIN:DAYLIGHT
TZNAME:EDT
DTSTART:20260308T020000
TZOFFSETFROM:-0500
TZOFFSETTO:-0400
RDATE:20270314T020000
RDATE:20280312T020000
END:DAYLIGHT
END:VTIMEZONE
BEGIN:VEVENT
UID:926ee174-a8ce-44d7-a04a-d0f451666a1d
DTSTAMP:20260421T161631Z
DESCRIPTION:
DTSTART;TZID=America/New_York:20261102T000000
DTEND;TZID=America/New_York:20261102T235900
LOCATION:
SUMMARY:Shelter Closed
END:VEVENT
END:VCALENDAR
