BEGIN:VCALENDAR
VERSION:2.0
PRODID:-//humanesocietycc.org//NONSGML kigkonsult.se iCalcreator 2.30.10//
CALSCALE:GREGORIAN
METHOD:PUBLISH
UID:1d5c71c8-adda-46e4-9512-d2560e157e47
X-WR-CALDESC:
X-WR-RELCALID:77480e753f5a06cbce75dc42339df3cf
X-WR-TIMEZONE:America/New_York
BEGIN:VTIMEZONE
TZID:America/New_York
BEGIN:STANDARD
TZNAME:EST
DTSTART:20261101T020000
TZOFFSETFROM:-0400
TZOFFSETTO:-0500
RDATE:20271107T020000
END:STANDARD
BEGIN:DAYLIGHT
TZNAME:EDT
DTSTART:20260308T020000
TZOFFSETFROM:-0500
TZOFFSETTO:-0400
RDATE:20270314T020000
RDATE:20280312T020000
END:DAYLIGHT
END:VTIMEZONE
BEGIN:VEVENT
UID:398f11b6-65d4-4742-80b0-9ea6a5ab3021
DTSTAMP:20260421T161631Z
DESCRIPTION:
DTSTART;TZID=America/New_York:20261109T000000
DTEND;TZID=America/New_York:20261109T235900
LOCATION:
SUMMARY:Shelter Closed
END:VEVENT
END:VCALENDAR
