BEGIN:VCALENDAR
VERSION:2.0
PRODID:-//humanesocietycc.org//NONSGML kigkonsult.se iCalcreator 2.30.10//
CALSCALE:GREGORIAN
METHOD:PUBLISH
UID:5c76c5eb-56d4-4ff0-815b-712bd40dd274
X-WR-CALDESC:
X-WR-RELCALID:6d27f7c6107904e938b52ff9d7cf98e0
X-WR-TIMEZONE:America/New_York
BEGIN:VTIMEZONE
TZID:America/New_York
BEGIN:STANDARD
TZNAME:EST
DTSTART:20261101T020000
TZOFFSETFROM:-0400
TZOFFSETTO:-0500
RDATE:20271107T020000
END:STANDARD
BEGIN:DAYLIGHT
TZNAME:EDT
DTSTART:20260308T020000
TZOFFSETFROM:-0500
TZOFFSETTO:-0400
RDATE:20270314T020000
RDATE:20280312T020000
END:DAYLIGHT
END:VTIMEZONE
BEGIN:VEVENT
UID:96ffc46d-b6aa-4565-a23a-69c5e613c973
DTSTAMP:20260421T161201Z
DESCRIPTION:
DTSTART;TZID=America/New_York:20261130T000000
DTEND;TZID=America/New_York:20261130T235900
LOCATION:
SUMMARY:Shelter Closed
END:VEVENT
END:VCALENDAR
