BEGIN:VCALENDAR
VERSION:2.0
PRODID:-//humanesocietycc.org//NONSGML kigkonsult.se iCalcreator 2.30.10//
CALSCALE:GREGORIAN
METHOD:PUBLISH
UID:ff29d2d1-62fc-4c89-b940-0d0759dfe406
X-WR-CALDESC:
X-WR-RELCALID:323a84c156161a7b26180734588c2f90
X-WR-TIMEZONE:America/New_York
BEGIN:VTIMEZONE
TZID:America/New_York
BEGIN:STANDARD
TZNAME:EST
DTSTART:20261101T020000
TZOFFSETFROM:-0400
TZOFFSETTO:-0500
RDATE:20271107T020000
END:STANDARD
BEGIN:DAYLIGHT
TZNAME:EDT
DTSTART:20260308T020000
TZOFFSETFROM:-0500
TZOFFSETTO:-0400
RDATE:20270314T020000
RDATE:20280312T020000
END:DAYLIGHT
END:VTIMEZONE
BEGIN:VEVENT
UID:710024b0-ac2e-4433-ac9c-b41813b6dea3
DTSTAMP:20260421T174226Z
DESCRIPTION:
DTSTART;TZID=America/New_York:20261214T000000
DTEND;TZID=America/New_York:20261214T235900
LOCATION:
SUMMARY:Shelter Closed
END:VEVENT
END:VCALENDAR
