BEGIN:VCALENDAR
VERSION:2.0
PRODID:-//humanesocietycc.org//NONSGML kigkonsult.se iCalcreator 2.30.10//
CALSCALE:GREGORIAN
METHOD:PUBLISH
UID:320f082d-0417-4f25-95ac-3fbf0adbe539
X-WR-CALDESC:
X-WR-RELCALID:db6373710a68686135019c6ceed3ff09
X-WR-TIMEZONE:America/New_York
BEGIN:VTIMEZONE
TZID:America/New_York
BEGIN:STANDARD
TZNAME:EST
DTSTART:20261101T020000
TZOFFSETFROM:-0400
TZOFFSETTO:-0500
RDATE:20271107T020000
END:STANDARD
BEGIN:DAYLIGHT
TZNAME:EDT
DTSTART:20260308T020000
TZOFFSETFROM:-0500
TZOFFSETTO:-0400
RDATE:20270314T020000
RDATE:20280312T020000
END:DAYLIGHT
END:VTIMEZONE
BEGIN:VEVENT
UID:e3d2538d-2d1d-409b-912b-0ff9a61e8359
DTSTAMP:20260421T173652Z
DESCRIPTION:
DTSTART;TZID=America/New_York:20261221T000000
DTEND;TZID=America/New_York:20261221T235900
LOCATION:
SUMMARY:Shelter Closed
END:VEVENT
END:VCALENDAR
