BEGIN:VCALENDAR
VERSION:2.0
PRODID:-//humanesocietycc.org//NONSGML kigkonsult.se iCalcreator 2.30.10//
CALSCALE:GREGORIAN
METHOD:PUBLISH
UID:c1792085-5c84-4726-9f68-96373189e3c8
X-WR-CALDESC:The shelter is closed today for the holiday. We can't wait to 
 see you soon!
X-WR-RELCALID:9e4c4f7da0eb96778b1907c2cb3e6bfc
X-WR-TIMEZONE:America/New_York
BEGIN:VTIMEZONE
TZID:America/New_York
BEGIN:STANDARD
TZNAME:EST
DTSTART:20261101T020000
TZOFFSETFROM:-0400
TZOFFSETTO:-0500
RDATE:20271107T020000
END:STANDARD
BEGIN:DAYLIGHT
TZNAME:EDT
DTSTART:20260308T020000
TZOFFSETFROM:-0500
TZOFFSETTO:-0400
RDATE:20270314T020000
RDATE:20280312T020000
END:DAYLIGHT
END:VTIMEZONE
BEGIN:VEVENT
UID:01892c8e-7a52-41ad-8bfa-f346b333ecf0
DTSTAMP:20260421T175857Z
DESCRIPTION:The shelter is closed today for the holiday. We can't wait to s
 ee you soon!
DTSTART;TZID=America/New_York:20261225T000000
DTEND;TZID=America/New_York:20261225T235900
LOCATION:
SUMMARY:Shelter Closed
END:VEVENT
END:VCALENDAR
