BEGIN:VCALENDAR
VERSION:2.0
PRODID:-//humanesocietycc.org//NONSGML kigkonsult.se iCalcreator 2.30.10//
CALSCALE:GREGORIAN
METHOD:PUBLISH
UID:9c22be24-9d2b-457c-be4d-1f7f5bbb5263
X-WR-CALDESC:
X-WR-RELCALID:edab42b1c0021dce8d84aaa531df663e
X-WR-TIMEZONE:America/New_York
BEGIN:VTIMEZONE
TZID:America/New_York
BEGIN:STANDARD
TZNAME:EST
DTSTART:20261101T020000
TZOFFSETFROM:-0400
TZOFFSETTO:-0500
RDATE:20271107T020000
END:STANDARD
BEGIN:DAYLIGHT
TZNAME:EDT
DTSTART:20260308T020000
TZOFFSETFROM:-0500
TZOFFSETTO:-0400
RDATE:20270314T020000
RDATE:20280312T020000
END:DAYLIGHT
END:VTIMEZONE
BEGIN:VEVENT
UID:638ca00a-b275-4c47-aa75-bed83792d51b
DTSTAMP:20260421T190853Z
DESCRIPTION:
DTSTART;TZID=America/New_York:20270111T000000
DTEND;TZID=America/New_York:20270111T235900
LOCATION:
SUMMARY:Shelter Closed
END:VEVENT
END:VCALENDAR
