BEGIN:VCALENDAR
VERSION:2.0
PRODID:-//humanesocietycc.org//NONSGML kigkonsult.se iCalcreator 2.30.10//
CALSCALE:GREGORIAN
METHOD:PUBLISH
UID:6eb82d10-5d21-4559-9d50-6fc40c1b4ddd
X-WR-CALDESC:
X-WR-RELCALID:ae6b5bd6c3e4aebde0f6e5e36f9969cb
X-WR-TIMEZONE:America/New_York
BEGIN:VTIMEZONE
TZID:America/New_York
BEGIN:STANDARD
TZNAME:EST
DTSTART:20261101T020000
TZOFFSETFROM:-0400
TZOFFSETTO:-0500
RDATE:20271107T020000
END:STANDARD
BEGIN:DAYLIGHT
TZNAME:EDT
DTSTART:20260308T020000
TZOFFSETFROM:-0500
TZOFFSETTO:-0400
RDATE:20270314T020000
RDATE:20280312T020000
END:DAYLIGHT
END:VTIMEZONE
BEGIN:VEVENT
UID:e03b5936-7bc1-496c-83eb-685139e9b809
DTSTAMP:20260421T203310Z
DESCRIPTION:
DTSTART;TZID=America/New_York:20270201T000000
DTEND;TZID=America/New_York:20270201T235900
LOCATION:
SUMMARY:Shelter Closed
END:VEVENT
END:VCALENDAR
