BEGIN:VCALENDAR
VERSION:2.0
PRODID:-//humanesocietycc.org//NONSGML kigkonsult.se iCalcreator 2.30.10//
CALSCALE:GREGORIAN
METHOD:PUBLISH
UID:1955bfad-7968-47d6-87b2-04ff9d2e0e12
X-WR-CALDESC:
X-WR-RELCALID:7e5d19fc10107cdc149589036c2f80fb
X-WR-TIMEZONE:America/New_York
BEGIN:VTIMEZONE
TZID:America/New_York
BEGIN:STANDARD
TZNAME:EST
DTSTART:20261101T020000
TZOFFSETFROM:-0400
TZOFFSETTO:-0500
RDATE:20271107T020000
END:STANDARD
BEGIN:DAYLIGHT
TZNAME:EDT
DTSTART:20260308T020000
TZOFFSETFROM:-0500
TZOFFSETTO:-0400
RDATE:20270314T020000
RDATE:20280312T020000
END:DAYLIGHT
END:VTIMEZONE
BEGIN:VEVENT
UID:38dc3799-9b8d-43cb-a701-e30119166608
DTSTAMP:20260421T204002Z
DESCRIPTION:
DTSTART;TZID=America/New_York:20270215T000000
DTEND;TZID=America/New_York:20270215T235900
LOCATION:
SUMMARY:Shelter Closed
END:VEVENT
END:VCALENDAR
