BEGIN:VCALENDAR
VERSION:2.0
PRODID:-//humanesocietycc.org//NONSGML kigkonsult.se iCalcreator 2.30.10//
CALSCALE:GREGORIAN
METHOD:PUBLISH
UID:36724a58-0857-45a4-8fd6-f7f05b83958b
X-WR-CALDESC:
X-WR-RELCALID:5b1a2fbd96b54001fb1b49bceb0631a5
X-WR-TIMEZONE:America/New_York
BEGIN:VTIMEZONE
TZID:America/New_York
BEGIN:STANDARD
TZNAME:EST
DTSTART:20261101T020000
TZOFFSETFROM:-0400
TZOFFSETTO:-0500
RDATE:20271107T020000
END:STANDARD
BEGIN:DAYLIGHT
TZNAME:EDT
DTSTART:20260308T020000
TZOFFSETFROM:-0500
TZOFFSETTO:-0400
RDATE:20270314T020000
RDATE:20280312T020000
END:DAYLIGHT
END:VTIMEZONE
BEGIN:VEVENT
UID:c7c9437b-98c5-4142-b9a4-5bb215d559bf
DTSTAMP:20260421T204002Z
DESCRIPTION:
DTSTART;TZID=America/New_York:20270222T000000
DTEND;TZID=America/New_York:20270222T235900
LOCATION:
SUMMARY:Shelter Closed
END:VEVENT
END:VCALENDAR
