BEGIN:VCALENDAR
VERSION:2.0
PRODID:-//humanesocietycc.org//NONSGML kigkonsult.se iCalcreator 2.30.10//
CALSCALE:GREGORIAN
METHOD:PUBLISH
UID:aad502d7-140a-4ca3-a565-0135f28110c3
X-WR-CALDESC:
X-WR-RELCALID:516d4ae3d3da5d4556442f3c8bd86447
X-WR-TIMEZONE:America/New_York
BEGIN:VTIMEZONE
TZID:America/New_York
BEGIN:STANDARD
TZNAME:EST
DTSTART:20261101T020000
TZOFFSETFROM:-0400
TZOFFSETTO:-0500
RDATE:20271107T020000
END:STANDARD
BEGIN:DAYLIGHT
TZNAME:EDT
DTSTART:20260308T020000
TZOFFSETFROM:-0500
TZOFFSETTO:-0400
RDATE:20270314T020000
RDATE:20280312T020000
END:DAYLIGHT
END:VTIMEZONE
BEGIN:VEVENT
UID:3a388570-a550-4745-ba48-60db775ecf8f
DTSTAMP:20260421T221113Z
DESCRIPTION:
DTSTART;TZID=America/New_York:20270308T000000
DTEND;TZID=America/New_York:20270308T235900
LOCATION:
SUMMARY:Shelter Closed
END:VEVENT
END:VCALENDAR
