BEGIN:VCALENDAR
VERSION:2.0
PRODID:-//humanesocietycc.org//NONSGML kigkonsult.se iCalcreator 2.30.10//
CALSCALE:GREGORIAN
METHOD:PUBLISH
UID:c6fc099d-a144-4543-8eaa-78aeaae41000
X-WR-CALDESC:
X-WR-RELCALID:94ea23ba440d76c16db6fed7f313dd36
X-WR-TIMEZONE:America/New_York
BEGIN:VTIMEZONE
TZID:America/New_York
BEGIN:STANDARD
TZNAME:EST
DTSTART:20261101T020000
TZOFFSETFROM:-0400
TZOFFSETTO:-0500
RDATE:20271107T020000
END:STANDARD
BEGIN:DAYLIGHT
TZNAME:EDT
DTSTART:20270314T020000
TZOFFSETFROM:-0500
TZOFFSETTO:-0400
RDATE:20280312T020000
END:DAYLIGHT
END:VTIMEZONE
BEGIN:VEVENT
UID:c73188f8-a241-4442-ab3c-d7b1bf615608
DTSTAMP:20260421T221145Z
DESCRIPTION:
DTSTART;TZID=America/New_York:20270315T000000
DTEND;TZID=America/New_York:20270315T235900
LOCATION:
SUMMARY:Shelter Closed
END:VEVENT
END:VCALENDAR
